BEGIN:VCALENDAR
VERSION:2.0
PRODID:-//Eventin//Event Calendar//EN
CALSCALE:GREGORIAN
METHOD:PUBLISH
BEGIN:VEVENT
UID:dc0f66aaedb1e713433a66321612b512@livesocial.world
SUMMARY:Ndewenal Show au lendemain de la Korité - 100% Kaolack
DESCRIPTION:
LOCATION:COEUR DE VILLE (KAOLACK) SENEGAL
DTSTAMP:20260419T171316Z
DTSTART:20230422T000000Z
DTEND:20260419T171316Z
END:VEVENT
END:VCALENDAR
